Workbook

Sheet Spesenabrechn.
A1: Spesenabrechnung von: | C1: Ressort / Funktion: | F1: Datum:
A2: Max Muster | C2: Finanzen, Steuern | F2: 46305
A3: Datum | B3: Zweck und Ort | C3: Anz. Std. | D3: CHF/Std. | E3: Fahrspesen | G3: Andere Spesen | H3: Total
E4: Km | F4: CHF 0.80/km | H4: Auszahlung
A5: 45931 | B5: alte Ansätze | C5: 1 | D5: =C5*IF(A5>DATE(2025,12,31),Ansatz!$C$2,Ansatz!$B$2) -> 36.2 | E5: 1 | F5: =SUM(E5*Ansatz!$C$7) -> 0.8 | H5: =N(D5)+N(F5)+N(G5) -> 37
A6: 46023 | B6: neue Ansätze | C6: 1 | D6: =C6*IF(A6>DATE(2025,12,31),Ansatz!$C$2,Ansatz!$B$2) -> 45 | E6: 1 | F6: =SUM(E6*Ansatz!$C$7) -> 0.8 | H6: =N(D6)+N(F6)+N(G6) -> 45.8
D7: =C7*IF(A7>DATE(2025,12,31),Ansatz!$C$2,Ansatz!$B$2) -> 0 | F7: =SUM(E7*Ansatz!$C$7) -> 0 | H7: =N(D7)+N(F7)+N(G7) -> 0
D8: =C8*IF(A8>DATE(2025,12,31),Ansatz!$C$2,Ansatz!$B$2) -> 0 | F8: =SUM(E8*Ansatz!$C$7) -> 0 | H8: =N(D8)+N(F8)+N(G8) -> 0
D9: =C9*IF(A9>DATE(2025,12,31),Ansatz!$C$2,Ansatz!$B$2) -> 0 | F9: =SUM(E9*Ansatz!$C$7) -> 0 | H9: =N(D9)+N(F9)+N(G9) -> 0
D10: =C10*IF(A10>DATE(2025,12,31),Ansatz!$C$2,Ansatz!$B$2) -> 0 | F10: =SUM(E10*Ansatz!$C$7) -> 0 | H10: =N(D10)+N(F10)+N(G10) -> 0
D11: =C11*IF(A11>DATE(2025,12,31),Ansatz!$C$2,Ansatz!$B$2) -> 0 | F11: =SUM(E11*Ansatz!$C$7) -> 0 | H11: =N(D11)+N(F11)+N(G11) -> 0
D12: =C12*IF(A12>DATE(2025,12,31),Ansatz!$C$2,Ansatz!$B$2) -> 0 | F12: =SUM(E12*Ansatz!$C$7) -> 0 | H12: =N(D12)+N(F12)+N(G12) -> 0
D13: =C13*IF(A13>DATE(2025,12,31),Ansatz!$C$2,Ansatz!$B$2) -> 0 | F13: =SUM(E13*Ansatz!$C$7) -> 0 | H13: =N(D13)+N(F13)+N(G13) -> 0
D14: =C14*IF(A14>DATE(2025,12,31),Ansatz!$C$2,Ansatz!$B$2) -> 0 | F14: =SUM(E14*Ansatz!$C$7) -> 0 | H14: =N(D14)+N(F14)+N(G14) -> 0
D15: =C15*IF(A15>DATE(2025,12,31),Ansatz!$C$2,Ansatz!$B$2) -> 0 | F15: =SUM(E15*Ansatz!$C$7) -> 0 | H15: =N(D15)+N(F15)+N(G15) -> 0
D16: =C16*IF(A16>DATE(2025,12,31),Ansatz!$C$2,Ansatz!$B$2) -> 0 | F16: =SUM(E16*Ansatz!$C$7) -> 0 | H16: =N(D16)+N(F16)+N(G16) -> 0
D17: =C17*IF(A17>DATE(2025,12,31),Ansatz!$C$2,Ansatz!$B$2) -> 0 | F17: =SUM(E17*Ansatz!$C$7) -> 0 | H17: =N(D17)+N(F17)+N(G17) -> 0
D18: =C18*IF(A18>DATE(2025,12,31),Ansatz!$C$2,Ansatz!$B$2) -> 0 | F18: =SUM(E18*Ansatz!$C$7) -> 0 | H18: =N(D18)+N(F18)+N(G18) -> 0
... D30: =C30*IF(A30>DATE(2025,12,31),Ansatz!$C$2,Ansatz!$B$2) -> 0 | F30: =SUM(E30*Ansatz!$C$7) -> 0 | H30: =N(D30)+N(F30)+N(G30) -> 0
A31: neue Zeile oberhalb dieser einfügen | D31: =C31*IF(A31>DATE(2025,12,31),Ansatz!$C$2,Ansatz!$B$2) -> 0 | F31: =SUM(E31*Ansatz!$C$7) -> 0 | H31: =N(D31)+N(F31)+N(G31) -> 0
A32: Kontrolle: | C32: =SUM(C5:C31) -> 2 | D32: =SUM(D5:D31) -> 81.2 | E32: =SUM(E5:E31) -> 2 | F32: =SUM(F5:F31) -> 1.6 | G32: =SUM(G5:G31) -> 0 | H32: =SUM(D32,F32,G32) -> 82.8
A33: Neue Ansätze | B33: Stundenansatz: CHF 45.00 | F33: Kontrollsumme vertikal | H33: =SUM(H5:H31) -> 82.8
A34: ab 2026 | B34: Abrechnung 1/4 Std genau
B35: Km-Entschädigung: CHF -.80/Km | C35: Unterschrift:
A36: 0.8
A37: 31.05 | F37: Kontrollvisum :
A38: Bankverbindung und
A39: IBAN oder
A40: Einzahlungsschein

Sheet Ansatz
A1: Ansätze | B1: 2025 | C1: 2026
A2: Std. | B2: 36.2 | C2: 45
A3: Sitzung bis 2 Std. | B3: 72.4 | C3: 90
A4: Sitzung bis 4 Std. | B4: 108.6 | C4: 135
A5: Sitzung 1/2 Tag | B5: 144.8 | C5: 180
A6: Sitzung ganzer Tag | B6: 289.6 | C6: 360
A7: Km-Entschädigung | B7: 0.8 | C7: 0.8
